BEGIN:VCALENDAR
VERSION:2.0
X-WR-CALNAME:EventsCalendar
BEGIN:VEVENT
CATEGORIES:Admissions,Admissions, Transfer,News, Arts and Sciences News,News, Business News,News, Diversity News,News, Education News,News, Humanities news,News, Natural Sciences News,News, Nursing News,News, Social Sciences News,News, Sustainability News
DESCRIPTION:Join us for a virtual session hosted by our admissions counselors. Learn more about our academic offerings, transfer credit, campus life, scholarships, financial aid, and more. Register for the 9/23 session27950
DTSTAMP:20260421T045527
DTSTART:20240923T120000
DTEND:20240923T130000
LOCATION:Online
SUMMARY;LANGUAGE=en-us:Virtual Transfer Information Session
UID:52be03c315a29efa9745a75affc83fa4@www.sjf.edu
END:VEVENT
END:VCALENDAR
