BEGIN:VCALENDAR
VERSION:2.0
X-WR-CALNAME:EventsCalendar
BEGIN:VEVENT
CATEGORIES:Admissions, Graduate,Departments, Educational Leadership,News, Education News
DESCRIPTION:Fisher's 32-credit educational leadership program is a must for working teachers interested in taking on a leadership role in their school or district. Join us to learn about program requirements and the application process, and get your questions answered. Register for the 7/29 session32957
DTSTAMP:20260421T064446
DTSTART:20260729T120000
DTEND:20260729T130000
LOCATION:Online
SUMMARY;LANGUAGE=en-us:M.S. in Educational Leadership Virtual Information Session
UID:7f3ba80d2a808c23a57e82b486ce8394@www.sjf.edu
END:VEVENT
END:VCALENDAR
