BEGIN:VCALENDAR
VERSION:2.0
X-WR-CALNAME:EventsCalendar
BEGIN:VEVENT
CATEGORIES:Academics, Wegmans School of Pharmacy,Admissions, Graduate,Departments, Pharmacy,News, Pharmacy News
DESCRIPTION:Get all the information you need about the Pharm.D. program offered by the Wegmans School of Pharmacy at St. John Fisher University. This session will include information on program requirements and the application process, as well as allow time for questions. Register for the 6/22 session32968
DTSTAMP:20260421T061913
DTSTART:20260622T150000
DTEND:20260622T160000
LOCATION:Online
SUMMARY;LANGUAGE=en-us:Doctor of Pharmacy (Pharm.D.) Virtual Information Session
UID:bc034fb846aecb1d9f65b47a356edfbe@www.sjf.edu
END:VEVENT
END:VCALENDAR
