BEGIN:VCALENDAR
VERSION:2.0
X-WR-CALNAME:EventsCalendar
BEGIN:VEVENT
CATEGORIES:News, Alumni News,News, Pharmacy News,News, Student Life News
DESCRIPTION:Visit the for the latest information about graduate and guest registration, health and safety considerations, and more.34623
DTSTAMP:20260421T045530
DTSTART:20240511T150000
DTEND:20240511T150000
LOCATION:
SUMMARY;LANGUAGE=en-us:Wegmans School of Pharmacy Commencement Ceremony
UID:48b7fe4779391a7e765fe2ed45879b9f@www.sjf.edu
END:VEVENT
END:VCALENDAR
