BEGIN:VCALENDAR
VERSION:2.0
X-WR-CALNAME:EventsCalendar
BEGIN:VEVENT
CATEGORIES:Admissions,Admissions, Graduate,Departments, MBA,News, Business News
DESCRIPTION:Fisher&rsquo;s Online MBA program focuses on the whole person, to fit your unique needs as a student and contributing member of today's workforce. Join us for a Zoom session to learn about program requirements and the application process, and get your questions answered. Register for the 4/29 session34925
DTSTAMP:20260423T012215
DTSTART:20260429T170000
DTEND:20260429T180000
LOCATION:Online
SUMMARY;LANGUAGE=en-us:Online MBA Virtual Information Session
UID:a2eee94d787de5988111e83c75244884@www.sjf.edu
END:VEVENT
END:VCALENDAR
