BEGIN:VCALENDAR
VERSION:2.0
X-WR-CALNAME:EventsCalendar
BEGIN:VEVENT
CATEGORIES:Academics, Education,Admissions, Graduate,Departments, Library Media,News, Education News
DESCRIPTION:Fisher's 30 credit online library media program is a must for those who hold initial teacher certification and wish to specialize in library media. Join us to learn about program requirements and the application process, and get your questions answered. Register for the 8/6 session46343
DTSTAMP:20260421T061913
DTSTART:20260806T120000
DTEND:20260806T130000
LOCATION:Online
SUMMARY;LANGUAGE=en-us:Online M.S. in Library Media Virtual Information Session
UID:19ff39f3dd728e7a7e3e78aa72d6541d@www.sjf.edu
END:VEVENT
END:VCALENDAR
