BEGIN:VCALENDAR
VERSION:2.0
X-WR-CALNAME:EventsCalendar
BEGIN:VEVENT
CATEGORIES:News, Diversity News,News, Nursing News,News, Student Life News
DESCRIPTION:This presentation will promote a discussion on the reasons why Black Maternal Disparities exist in America and sharing of scholarly writings and professionals in the field. The event will also include a question-and-answer session. This event is part of Fisher's Spirit of Identity Week. Register for the Zoom Lecture48258
DTSTAMP:20260423T101653
DTSTART:20240116T110000
DTEND:20240116T120000
LOCATION:Zoom
SUMMARY;LANGUAGE=en-us:Birth While Black: Understanding Black Maternal Health
UID:8183e7adbb2c5b5ca6ef33dbf7e1dea6@www.sjf.edu
END:VEVENT
END:VCALENDAR
