BEGIN:VCALENDAR
VERSION:2.0
X-WR-CALNAME:EventsCalendar
BEGIN:VEVENT
CATEGORIES:News, Business News,News, Diversity News,News, Student Life News
DESCRIPTION:Learn about the strategic advantages of forging partnerships and collaborations with influencers and community leaders to establish authentic connections with multicultural markets. Discover the impact of leveraging innovative communication channels, such as social media platforms, to create personalized and culturally relevant marketing experiences that foster increased brand awareness and loyalty. Join us to unlock the potential of diversity for cultivating enduring consumer relationships and driving brand expansion. This event is part of Fisher's Spirit of Identity Week.48263
DTSTAMP:20260423T104124
DTSTART:20240116T123000
DTEND:20240116T130000
LOCATION:Salerno 203
SUMMARY;LANGUAGE=en-us:Innovations in Multicultural Marketing: Leveraging Diversity for Market Success
UID:77c75aa551ec0af376a89aea01f869c6@www.sjf.edu
END:VEVENT
END:VCALENDAR
