BEGIN:VCALENDAR
VERSION:2.0
X-WR-CALNAME:EventsCalendar
BEGIN:VEVENT
CATEGORIES:News, Student Life News
DESCRIPTION:48799
DTSTAMP:20260421T045503
DTSTART:20240223T110000
DTEND:20240223T133000
LOCATION:
SUMMARY;LANGUAGE=en-us:Therapy Dogs
UID:169e7c0b131393978e85052f273efb5a@www.sjf.edu
END:VEVENT
END:VCALENDAR
