BEGIN:VCALENDAR
VERSION:2.0
X-WR-CALNAME:EventsCalendar
BEGIN:VEVENT
CATEGORIES:News, Diversity News,News, Student Life News
DESCRIPTION:Fisher's student group, The Body Talk, aims to foster awareness of systematic issues related to body size in our culture and work toward building body positivity and equity in the norms at Fisher. They are an inclusive size diversity group for all gender identities.51436
DTSTAMP:20260421T045530
DTSTART:20240926T193000
DTEND:20240926T203000
LOCATION:
SUMMARY;LANGUAGE=en-us:Flower Bouquet Making: Bloom with Confidence
UID:e38564e0d29fc91ad7b719e9d58310ae@www.sjf.edu
END:VEVENT
END:VCALENDAR
