BEGIN:VCALENDAR
VERSION:2.0
X-WR-CALNAME:EventsCalendar
BEGIN:VEVENT
CATEGORIES:News, Arts and Sciences News,News, Business News,News, Education News,News, Nursing News,News, Student Life News
DESCRIPTION:51554
DTSTAMP:20260421T140124
DTSTART:20251016T123000
DTEND:20251016T133000
LOCATION:Pioch 101
SUMMARY;LANGUAGE=en-us:Study Abroad Information Session
UID:500958286aa87c50cf6bda638109dc2f@www.sjf.edu
END:VEVENT
END:VCALENDAR
