BEGIN:VCALENDAR
VERSION:2.0
X-WR-CALNAME:EventsCalendar
BEGIN:VEVENT
CATEGORIES:News, Business News,News, Student Life News
DESCRIPTION:Light refreshments will be provided.52283
DTSTAMP:20260421T045504
DTSTART:20241120T170000
DTEND:20241120T190000
LOCATION:
SUMMARY;LANGUAGE=en-us:Meet the Accountants Night
UID:919b6a6ae21ae5ae116c360c771ea7f4@www.sjf.edu
END:VEVENT
END:VCALENDAR
