BEGIN:VCALENDAR
VERSION:2.0
X-WR-CALNAME:EventsCalendar
BEGIN:VEVENT
CATEGORIES:News, Arts and Sciences News,News, Diversity News,News, Humanities news,News, Student Life News
DESCRIPTION:All students, faculty, and staff are welcome!&nbsp; For the spring semester, Cafecito will be held the following Wednesdays:&nbsp;  February 19 March 12 March 26 April 9 April 23 53165
DTSTAMP:20260421T045529
DTSTART:20250423T163000
DTEND:20250423T170000
LOCATION:Basil 207
SUMMARY;LANGUAGE=en-us:Cafecito Spanish Conversation Group
UID:10d4cb4115cba0df94e17afdf960993f@www.sjf.edu
END:VEVENT
END:VCALENDAR
