BEGIN:VCALENDAR
VERSION:2.0
X-WR-CALNAME:EventsCalendar
BEGIN:VEVENT
CATEGORIES:Departments, Clubs,News, Student Life News
DESCRIPTION:54312
DTSTAMP:20260421T045527
DTSTART:20250428T183000
DTEND:20250428T193000
LOCATION:
SUMMARY;LANGUAGE=en-us:Club Basketball Interest Meeting and Celebration
UID:95876181fb83d72a559ed600f54702c8@www.sjf.edu
END:VEVENT
END:VCALENDAR
