BEGIN:VCALENDAR
VERSION:2.0
X-WR-CALNAME:EventsCalendar
BEGIN:VEVENT
CATEGORIES:Academics, Nursing,Academics, Wegmans School of Nursing,Departments, Nursing, RNBS,News, Nursing News
DESCRIPTION:Get all the information you need about Fisher's online RN to BSN program, as well as details about the application process. Register for the 5/12 session55410
DTSTAMP:20260423T135939
DTSTART:20260512T170000
DTEND:20260512T180000
LOCATION:Online
SUMMARY;LANGUAGE=en-us:Online RN to BSN Virtual Information Session
UID:6c8861d06799bfe3fdfc0da8a2ecb684@www.sjf.edu
END:VEVENT
END:VCALENDAR
