BEGIN:VCALENDAR
VERSION:2.0
X-WR-CALNAME:EventsCalendar
BEGIN:VEVENT
CATEGORIES:News, Diversity News,News, Student Life News
DESCRIPTION:55777
DTSTAMP:20260421T044432
DTSTART:20250917T180000
DTEND:20250917T190000
LOCATION:
SUMMARY;LANGUAGE=en-us:Constitution Day and Citizenship Day
UID:2c164c38a1699f4eebe6206916a2872d@www.sjf.edu
END:VEVENT
END:VCALENDAR
