BEGIN:VCALENDAR
VERSION:2.0
X-WR-CALNAME:EventsCalendar
BEGIN:VEVENT
CATEGORIES:News, Nursing News,News, Student Life News
DESCRIPTION:56289
DTSTAMP:20260419T090753
DTSTART:20251013T180000
DTEND:20251013T200000
LOCATION:
SUMMARY;LANGUAGE=en-us:Pumpkin Painting
UID:d57163492c6e07fe5e66cb8a6c6e44e0@www.sjf.edu
END:VEVENT
END:VCALENDAR
