BEGIN:VCALENDAR
VERSION:2.0
X-WR-CALNAME:EventsCalendar
BEGIN:VEVENT
CATEGORIES:News, Arts and Sciences News,News, Social Sciences News,News, Student Life News
DESCRIPTION:56290
DTSTAMP:20260421T045530
DTSTART:20251013T193000
DTEND:20251013T203000
LOCATION:
SUMMARY;LANGUAGE=en-us:Psych Bingo!
UID:bf2b4e80d3b1f1e770a250cc76b00bca@www.sjf.edu
END:VEVENT
END:VCALENDAR
