BEGIN:VCALENDAR
VERSION:2.0
X-WR-CALNAME:EventsCalendar
BEGIN:VEVENT
CATEGORIES:News, Student Life News
DESCRIPTION:The Bills take on the Chiefs at 4:25 p.m. Sunday! Don't miss the fun, the excitement, the Taylor Swift cameos, and of course, the snacks!56787
DTSTAMP:20260419T090105
DTSTART:20251102T160000
DTEND:20251102T190000
LOCATION:
SUMMARY;LANGUAGE=en-us:Bills Watch Party
UID:cf3f81bea105cf7f34f71f52c838b638@www.sjf.edu
END:VEVENT
END:VCALENDAR
