BEGIN:VCALENDAR
VERSION:2.0
X-WR-CALNAME:EventsCalendar
BEGIN:VEVENT
CATEGORIES:News, Student Life News
DESCRIPTION:Free snacks will be available all week to welcome you back to class.64725
DTSTAMP:20260425T145030
DTSTART:20260114T120000
DTEND:20260114T130000
LOCATION:
SUMMARY;LANGUAGE=en-us:Welcome Back Snacks
UID:aa0b61db1eb31f2059c64c461c272827@www.sjf.edu
END:VEVENT
END:VCALENDAR
