BEGIN:VCALENDAR
VERSION:2.0
X-WR-CALNAME:EventsCalendar
BEGIN:VEVENT
CATEGORIES:News, Student Life News,News, Spring 2026 News
DESCRIPTION:Join us at Chipotle on Monroe Avenue. All proceeds will help fund the club's annual NYC trip, giving members hands-on experiences in investing and finance.68401
DTSTAMP:20260419T090056
DTSTART:20260207T160000
DTEND:20260207T200000
LOCATION:Chipotle, 3349 Monroe Avenue, Rochester, NY
SUMMARY;LANGUAGE=en-us:Chipotle Fundraiser for SJF Investment Club
UID:f674c72d4afed6ae6e6fbb478e9e0ba0@www.sjf.edu
END:VEVENT
END:VCALENDAR
