BEGIN:VCALENDAR
VERSION:2.0
X-WR-CALNAME:EventsCalendar
BEGIN:VEVENT
CATEGORIES:Athletics,News, Student Life News,News, Spring 2026 News
DESCRIPTION:Watch women's basketball face-off against Naz at 5:30 p.m. and men's basketball take on Naz at 7:30 p.m. Giveaways at 5 p.m. and 7 p.m. courtesy of the Office of Student Engagement and Leadership. Go Cardinals!&nbsp;70134
DTSTAMP:20260421T045529
DTSTART:20260217T170000
DTEND:20260217T213000
LOCATION:
SUMMARY;LANGUAGE=en-us:Battle of the Beaks
UID:1e7228ec5e493c51b421be1d37ecd67f@www.sjf.edu
END:VEVENT
END:VCALENDAR
