BEGIN:VCALENDAR
VERSION:2.0
X-WR-CALNAME:EventsCalendar
BEGIN:VEVENT
CATEGORIES:News, Alumni News,News, Arts and Sciences News,News, Business News,News, Humanities news,News, Social Sciences News,News, Student Life News
DESCRIPTION:Undergraduate Degree Recipients  Majors: Accounting, Finance, Human Resource Management, Management, Marketing, English, Interdisciplinary Studies, Media Communication, Public Relations, Film and Television, American Studies, History, International Studies, Philosophy, Religious Studies, Data Analytics, Economics, Legal Studies, Political Science, Spanish, Sport Management 71597
DTSTAMP:20260423T184812
DTSTART:20260509T100000
DTEND:20260509T113000
LOCATION:
SUMMARY;LANGUAGE=en-us:Undergraduate Commencement Ceremony
UID:83a6cdceb4921c99eba15962a19d1a69@www.sjf.edu
END:VEVENT
END:VCALENDAR
