BEGIN:VCALENDAR
VERSION:2.0
X-WR-CALNAME:EventsCalendar
BEGIN:VEVENT
CATEGORIES:News, Alumni News,News, Arts and Sciences News,News, Education News,News, Natural Sciences News,News, Pharmacy News,News, Student Life News
DESCRIPTION:Undergraduate Degree Recipients  Majors: Anthropology, Criminal Justice, Psychology, Public Health, Sociology, Inclusive Adolescence, Inclusive Childhood, Athletic Performance, Biology, Sustainability, Biochemistry, Chemistry, Chemistry-Pharmaceutical Chemistry, Computer Science, Cybersecurity, Mathematics, Physics, Statistics, and Pharmaceutical Studies 71598
DTSTAMP:20260424T002550
DTSTART:20260509T160000
DTEND:20260509T173000
LOCATION:
SUMMARY;LANGUAGE=en-us:Undergraduate Commencement Ceremony
UID:59e6adcd6ae4daf4ea4bf8c8bcce4b60@www.sjf.edu
END:VEVENT
END:VCALENDAR
