BEGIN:VCALENDAR
VERSION:2.0
X-WR-CALNAME:EventsCalendar
BEGIN:VEVENT
CATEGORIES:News, Arts and Sciences News,News, Humanities news,News, Student Life News
DESCRIPTION:72083
DTSTAMP:20260425T120550
DTSTART:20260426T190000
DTEND:20260426T210000
LOCATION:
SUMMARY;LANGUAGE=en-us:Fisher Dance Combo Class
UID:791aa676efd4f19fb80e5c6e7c4425b3@www.sjf.edu
END:VEVENT
END:VCALENDAR
